BEGIN:VCALENDAR
VERSION:2.0
PRODID:-//Dunnington Sports Club - ECPv6.15.11//NONSGML v1.0//EN
CALSCALE:GREGORIAN
METHOD:PUBLISH
X-ORIGINAL-URL:https://www.dunningtonsports.club
X-WR-CALDESC:Events for Dunnington Sports Club
REFRESH-INTERVAL;VALUE=DURATION:PT1H
X-Robots-Tag:noindex
X-PUBLISHED-TTL:PT1H
BEGIN:VTIMEZONE
TZID:UTC
BEGIN:STANDARD
TZOFFSETFROM:+0000
TZOFFSETTO:+0000
TZNAME:UTC
DTSTART:20240101T000000
END:STANDARD
END:VTIMEZONE
BEGIN:VEVENT
DTSTART;TZID=UTC:20251231T190000
DTEND;TZID=UTC:20260101T010000
DTSTAMP:20260424T000652
CREATED:20241120T183856Z
LAST-MODIFIED:20251125T205546Z
UID:271-1767207600-1767229200@www.dunningtonsports.club
SUMMARY:New Year's Eve Party 2025
DESCRIPTION:Ring in 2026 with Us!\n\nJoin us for an unforgettable New Year’s Eve Party on December 31st\, 2025!\n\n Time: 7 PM – 1 AM\n\nStonebaked Pizzas are available to buy on the night\n BYO Food & Snacks – bring your favourites to share!\n Family-friendly – children welcome!\n FREE ENTRY!\n\nGet ready to dance the night away and celebrate the start of 2025 with good vibes and great company. See you there!
URL:https://www.dunningtonsports.club/event/new-years-eve-party/
LOCATION:Dunnington Sports Club\, Common Road\, Dunnington\, YO19 5NG\, United Kingdom
CATEGORIES:Event
ATTACH;FMTTYPE=image/png:https://www.dunningtonsports.club/wp-content/uploads/2024/11/NYE-2025-1-e1764104104805.png
ORGANIZER;CN="Dunnington Sports Club":MAILTO:manager@dunningtonsportsclub.co.uk
END:VEVENT
END:VCALENDAR