BEGIN:VCALENDAR
VERSION:2.0
PRODID:-//Dunnington Sports Club - ECPv6.15.11//NONSGML v1.0//EN
CALSCALE:GREGORIAN
METHOD:PUBLISH
X-ORIGINAL-URL:https://www.dunningtonsports.club
X-WR-CALDESC:Events for Dunnington Sports Club
REFRESH-INTERVAL;VALUE=DURATION:PT1H
X-Robots-Tag:noindex
X-PUBLISHED-TTL:PT1H
BEGIN:VTIMEZONE
TZID:UTC
BEGIN:STANDARD
TZOFFSETFROM:+0000
TZOFFSETTO:+0000
TZNAME:UTC
DTSTART:20230101T000000
END:STANDARD
END:VTIMEZONE
BEGIN:VEVENT
DTSTART;TZID=UTC:20251122T190000
DTEND;TZID=UTC:20251122T233000
DTSTAMP:20260423T201359
CREATED:20250703T133341Z
LAST-MODIFIED:20250703T133757Z
UID:924-1763838000-1763854200@www.dunningtonsports.club
SUMMARY:The Ultimate Clubland Anthems - with vocalist Rachel Shenton
DESCRIPTION:Rachel is a sell out artist up and down the UK. Following the Sold out event in March this year the event returns after huge demand! Complete with DJ playing dance classics new and old to make it the perfect party!\n\nDATE: Saturday 22nd November\nTIME: 7:00pm til 11:30pm (Performance starts 8:15pm)\nNB: Minimum Age 16+\n\nTICKETS: Tickets: The Ultimate Clubland Anthems – with vocalist Rachel Shenton | Dunnington Sports Club York Sat 22 November 2025 – Special group discount on tickets!\n\nSet list from the following :\n\nCastles in the Sky – Ian Van DahlDon’t Stop Movin – Livin JoyFeels like Heaven – Urban Cookie CollectiveLet me be your FantasyRhythm is a Dancer – SNAP!Dreamer – Livin JoyU Sure Do – StrikeEverybody’s Free – RozallaFinally – CeCe PenistonShow me Love – Robin SHeaven – DJ SammyOn a Night Like This – Kylie MinogueSet you Free – N-TranceFreed from Desire – GalaThere’s Nothin I Wont Do – JXMysterious Times – SashI Just Can’t Get Enough – Herd & FitzTake Me to The Clouds Above – LMCDon’t Give me Your Life – Alex PartyTell it to My Heart – Kelly LlorennaYou’re a Superstar – Love IncSilence – DeleriumToca’s Miracle – FragmaTouch Me – Rui da SilvaPretty Green Eyes – UltrabeatLola’s Theme – ShapeshiftersRide on Time – BlackboxBaby Baby – CoronaThe Key\, The Secret – Urban Cookie CollectivePump up The Jam – TechnotronicFree – Ultra NateThe Rhythm of the Night – CoronaMr Vain – Culture BeatEverytime We Touch – CascadaTrue Love Never Dies – Flip & Fill\, Kelly LlorennaShooting Star – Flip & Fill\, Karen PerrySaturday Night – WhigfieldNo Limit – 2 UnlimitedThe Real Thing – 2 UnlimitedWe Like to Party/Boom Boom Boom/Up & Down _ Vengaboys MegamixThe Boys of Summer – DJ SammyGypsy Woman – Crystal WatersBe My Lover – La BoucheBullet in The Gun – Planet PerfectoWhat’s Up – 4 Non Blondes RemixForever – Dee DeeSweet Dreams – La BoucheHeartof Gold – Kelly LlorennaFeelin Fine – UltrabeatChildren of The Night – Nakatomi\n\n“Had Rachel perform at our venue and she is the ULTIMATE professional! From her outfits\, make up\, lighting\, backdrop you know your in for a good night! Then when she opens her mouth to sing!!! WOW!!!! Amazing vocal range\, really gets the party going and get the whole place up on their feet and singing along! We loved having her so much\, I have booked the clubland night again AND booked for her new rock show too! I know we will have a full house as soon as customers see its Rachel ” – Anna Meadon
URL:https://www.dunningtonsports.club/event/the-ultimate-clubland-anthems-with-vocalist-rachel-shenton/
LOCATION:Dunnington Sports Club\, Common Road\, Dunnington\, YO19 5NG\, United Kingdom
CATEGORIES:Music
ATTACH;FMTTYPE=image/jpeg:https://www.dunningtonsports.club/wp-content/uploads/2025/07/Ultimate-Clubland-Event-Cover.jpg
ORGANIZER;CN="UltimateGig.co.uk":MAILTO:ultimategiguk@gmail.com
END:VEVENT
BEGIN:VEVENT
DTSTART;TZID=UTC:20251114T193000
DTEND;TZID=UTC:20251114T210000
DTSTAMP:20260423T201359
CREATED:20251105T182718Z
LAST-MODIFIED:20251105T182718Z
UID:994-1763148600-1763154000@www.dunningtonsports.club
SUMMARY:BBC Children in Need Party Night
DESCRIPTION: Live Music for a Great Cause! \n\nJoin us at Dunnington Sports Club on Friday 14th November at 7:30pm for an evening of fantastic live music from The Wrinkley Rockers – all in support of BBC Children in Need \n\nFREE entry and food will be served on the night!\n\nLet’s come together\, have some fun\, and raise money to help make a difference in children’s lives across the UK.\n\n When: Friday 14th November\, 7:30pm Where: Dunnington Sports Club What: Live music by The Wrinkley Rockers\n Donate online: Visit bbc.co.uk/pudsey – we will be collecting donations on the night.
URL:https://www.dunningtonsports.club/event/bbc-children-in-need-party-night/
LOCATION:Dunnington Sports Club\, Common Road\, Dunnington\, YO19 5NG\, United Kingdom
CATEGORIES:Event,Music
ATTACH;FMTTYPE=image/jpeg:https://www.dunningtonsports.club/wp-content/uploads/2025/11/Ultimate-Clubland-Event-Cover-2.jpg
ORGANIZER;CN="Dunnington Sports Club":MAILTO:manager@dunningtonsportsclub.co.uk
END:VEVENT
BEGIN:VEVENT
DTSTART;TZID=UTC:20251031T180000
DTEND;TZID=UTC:20251031T200000
DTSTAMP:20260423T201359
CREATED:20250914T130235Z
LAST-MODIFIED:20250914T130235Z
UID:936-1761933600-1761940800@www.dunningtonsports.club
SUMMARY:Kid's Halloween Party
DESCRIPTION:Spooky fun for little monsters! \n\n\nJoin us for our Kids’ Halloween Party – filled with games\, music\, and treats for the whole family.\n\n\n Prizes for best costumes!\n\n\n Date: 31st October\n Venue: Dunnington Sports Club\n\n\n Tickets & full details here  https://fixr.co/…/childrens-halloween-party-tickets… \n\n\n\n\n\n\nDon’t miss out – it’s going to be a fang-tastic night!
URL:https://www.dunningtonsports.club/event/kids-halloween-party/
LOCATION:Dunnington Sports Club\, Common Road\, Dunnington\, YO19 5NG\, United Kingdom
CATEGORIES:Event
ATTACH;FMTTYPE=image/png:https://www.dunningtonsports.club/wp-content/uploads/2025/09/KIDS-HALLOWEEN-PARTY-2025-e1757854870583.png
ORGANIZER;CN="Dunnington Sports Club":MAILTO:manager@dunningtonsportsclub.co.uk
END:VEVENT
BEGIN:VEVENT
DTSTART;TZID=UTC:20251004T173000
DTEND;TZID=UTC:20251004T230000
DTSTAMP:20260423T201359
CREATED:20250408T162209Z
LAST-MODIFIED:20250914T125151Z
UID:902-1759599000-1759618800@www.dunningtonsports.club
SUMMARY:Dunnington Cricket Club Gin Festival
DESCRIPTION:Saturday 4th October 5:30pm – 11:00pm \n TICKETS AVAILABLE NOW \n\nOur gin festival tickets are now available to buy from Julie and behind the bar at Dunnington Sports Bar. Get them quick to secure your place for the best gin festival you’ll go to…\n  \n 
URL:https://www.dunningtonsports.club/event/dunnington-cricket-club-gin-festival/
LOCATION:Dunnington Sports Club\, Common Road\, Dunnington\, YO19 5NG\, United Kingdom
CATEGORIES:Event
ATTACH;FMTTYPE=image/jpeg:https://www.dunningtonsports.club/wp-content/uploads/2025/04/528307931_18486855841068811_946098058883957245_n-e1757854172279.jpg
ORGANIZER;CN="Dunnington Cricket Club":MAILTO:dunningtoncc@gmail.com
END:VEVENT
BEGIN:VEVENT
DTSTART;TZID=UTC:20250809T180000
DTEND;TZID=UTC:20250809T230000
DTSTAMP:20260423T201359
CREATED:20250703T131528Z
LAST-MODIFIED:20250703T131528Z
UID:919-1754762400-1754780400@www.dunningtonsports.club
SUMMARY:DUNNINGTON FC DARTS KNOCKOUT NIGHT!
DESCRIPTION: Get ready for a night of darts\, drinks\, and absolute banter! \n\n Saturday\, 9th August 6:00 PM Start £10 Entry per person – Doubles drawn on the night!\n Music\, top vibes & plenty of laughs! Players & spectators welcome – just a fun night of darts!\n\nThink you’ve got the aim to take the title? Or just fancy a few pints while watching the action? Either way\, don’t miss it! 
URL:https://www.dunningtonsports.club/event/dunnington-fc-darts-knockout-night/
LOCATION:Dunnington Sports Club\, Common Road\, Dunnington\, YO19 5NG\, United Kingdom
CATEGORIES:Event
ATTACH;FMTTYPE=image/jpeg:https://www.dunningtonsports.club/wp-content/uploads/2025/07/Darts-Knockout-Event-Cover.jpg
ORGANIZER;CN="Dunnington Football Club":MAILTO:karl.hetherington@hotmail.co.uk
END:VEVENT
BEGIN:VEVENT
DTSTART;TZID=UTC:20250704T193000
DTEND;TZID=UTC:20250704T220000
DTSTAMP:20260423T201359
CREATED:20250320T205352Z
LAST-MODIFIED:20250320T205352Z
UID:875-1751657400-1751666400@www.dunningtonsports.club
SUMMARY:Wine Tasting & Quiz
DESCRIPTION:Friday 4th July at 7:30pm\nJoin us to try 3 wines introduced by Phil and Viv Clarkson of Malton Vineyard and a fun quiz accompanied by amuse bouche\n\nTickets: £15 pp\nFor tickets contact:\ndebchipps@msn.com 07947371976manager@dunningtonsportsclub.co.uk 01904 481039\n\nHosted by Dunnington Tennis Club
URL:https://www.dunningtonsports.club/event/wine-tasting-quiz/
LOCATION:Dunnington Sports Club\, Common Road\, Dunnington\, YO19 5NG\, United Kingdom
CATEGORIES:Event
ATTACH;FMTTYPE=image/jpeg:https://www.dunningtonsports.club/wp-content/uploads/2025/03/Wine-Tasting-Event-Cover.jpg
ORGANIZER;CN="Dunnington Tennis Club":MAILTO:jenks77@hotmail.com
END:VEVENT
BEGIN:VEVENT
DTSTART;TZID=UTC:20250606T200000
DTEND;TZID=UTC:20250606T233000
DTSTAMP:20260423T201359
CREATED:20250308T102151Z
LAST-MODIFIED:20250308T102151Z
UID:871-1749240000-1749252600@www.dunningtonsports.club
SUMMARY:Amy Winehouse - By Caroline Lowe
DESCRIPTION:Amy Winehouse- Solo show by touring artist Caroline Lowe. “Superb”\, “Amazing”\, “Wow” – A show not to be missed 10/10 – Ultimate Gig \nTickets ONLY £8 \nAvailable at: https://www.skiddle.com/whats-on/York/Dunnington-Sports-Club/Amy-Winehouse—By-Caroline-Lowe/40715790/ \n 
URL:https://www.dunningtonsports.club/event/amy-winehouse-by-caroline-lowe/
LOCATION:Dunnington Sports Club\, Common Road\, Dunnington\, YO19 5NG\, United Kingdom
CATEGORIES:Event,Music
ATTACH;FMTTYPE=image/jpeg:https://www.dunningtonsports.club/wp-content/uploads/2025/03/Amy-Winehouse-Tribute-Event-Cover.jpg
ORGANIZER;CN="UltimateGig.co.uk":MAILTO:ultimategiguk@gmail.com
END:VEVENT
BEGIN:VEVENT
DTSTART;VALUE=DATE:20250523
DTEND;VALUE=DATE:20250524
DTSTAMP:20260423T201359
CREATED:20250107T160003Z
LAST-MODIFIED:20250107T160003Z
UID:786-1747958400-1748044799@www.dunningtonsports.club
SUMMARY:Dunnington Cricket Club Annual Golf Day
DESCRIPTION:ATTENTION ALL GOLF LOVERS \n\n\nBooking for our annual joint golf day with Bishop Wilton CC is now open! \n\n\n Friday 23rd May\nThe Oaks Golf Club & Spa\n\n\n£200 for a team of 4 includes your golf\, a bacon sarnie and coffee before your round\, and a delicious 2-course meal after your round.\n\n\nAs always\, plenty of prizes and competitions throughout the day.\n\n\nContact Jack on 07843 631149 to book your place.
URL:https://www.dunningtonsports.club/event/dunnington-cricket-club-annual-golf-day/
LOCATION:The Oaks Golf Club and Spa\, YO42 4PW\, United Kingdom
CATEGORIES:Event
ATTACH;FMTTYPE=image/jpeg:https://www.dunningtonsports.club/wp-content/uploads/2025/01/DCC-Golf-Day.jpg
ORGANIZER;CN="Dunnington Cricket Club":MAILTO:dunningtoncc@gmail.com
END:VEVENT
BEGIN:VEVENT
DTSTART;TZID=UTC:20250504T120000
DTEND;TZID=UTC:20250504T180000
DTSTAMP:20260423T201359
CREATED:20250408T160107Z
LAST-MODIFIED:20250408T160154Z
UID:895-1746360000-1746381600@www.dunningtonsports.club
SUMMARY:Bowls Club Social Roll-Up
DESCRIPTION:On Sunday 4th May 2025\, the Bowls club will be having a social roll-up afternoon when they invite everyone to come along and join them for a relaxing try out of bowls with members helping to show you the ropes. \nTime: 12pm – 6pm \nGive it a try\, most of their experienced bowlers started out this way and became hooked! \nFor further details\, contact our secretary\, Jon Davies\, on 07368814481
URL:https://www.dunningtonsports.club/event/bowls-club-social-roll-up/
LOCATION:Dunnington Sports Club\, Common Road\, Dunnington\, YO19 5NG\, United Kingdom
CATEGORIES:Event
ATTACH;FMTTYPE=image/jpeg:https://www.dunningtonsports.club/wp-content/uploads/2025/04/Bowls-Roll-Up-Event-Cover.jpg
END:VEVENT
BEGIN:VEVENT
DTSTART;TZID=UTC:20250412T193000
DTEND;TZID=UTC:20250412T220000
DTSTAMP:20260423T201359
CREATED:20250120T170313Z
LAST-MODIFIED:20250120T170744Z
UID:843-1744486200-1744495200@www.dunningtonsports.club
SUMMARY:The Alex Hamilton Band
DESCRIPTION:Thirty-year-old Alex Hamilton (formerly Lewis) has been part of the British Blues/Rock scene for over 14 years. Gaining notoriety on the back of being a talented young guitarist with skills beyond his age\, he has since matured and developed a tasteful and subtle guitar technique that has been compared to Robben Ford and Matt Scofield. His debut album at the age of 18 won the Scottish New Music Award in 2011 and his subsequent albums have all been nominated for awards including the British Blues Awards\, several years running. \n​Having toured all across Britain and extensively in Europe with his trio ‘The Alex Hamilton Band’\, he has regularly sold out theatres and music clubs across the globe\, gaining a following of musicians and music fans alike. In the last 13 years\, Alex has been fortunate enough to share stages with some of the best musicians in his genre including Carl Verheyen\, Anysley Lister\, Henrik Freishlader and King King.​ \n​With multiple award-winning albums\, a strong fanbase\, a growing online presence\, endorsements from some notable manufacturers and continuous radio play across the world Alex Hamilton’s music is starting to be heard. \n🗓 Date: Saturday\, 12th April\n🕗 Time: 7:30 PM\n📍 Venue: Dunnington Sports Club \n📜 Tickets: Only £10\n🍔 We will be serving bar meals from 6-8 PM. Please book in advance! \nTickets are available at https://fixr.co/event/the-alex-hamilton-band-tickets-413796919 and directly from the sports club. \nLinks : \nalexhamiltonguitar.com/ \nreverbnation.com/alexhamiltonmusic \nfacebook.com/alexhamiltonband \nx.com/alexhamiltongtr \nsoundcloud.com/lewis-hamilton-music \nPersonnel : \nAlex Hamilton – Guitar/Vocals \nNick Hamilton – Bass \nIan Beestin/Martin Bell – Drums \nPress : \n” Hot Blooded Caledonian Blues – could any music fan refuse? ” Ian Rankin \n“I’m really digging this – makes you walk around like you’re ten men.” Jericho Keys BBC – Yorkshire \n” Lewis Hamilton seems to be a flawless offspring of the North American roots of the blues.” Steve Brown (Rocktimes.DE) \n” This is heartfelt soulful music\, just as honest as the day is long in June\, and when music has that much integrity\, it just has to be good.” Jon Seymour (Firebrand Magazine) \n” The music is solid – the trio rocks\, sometimes gets funky … Definitely recommended for fans of the genre.” Nathan Nörgel (Wasser-Prawda Magazine)
URL:https://www.dunningtonsports.club/event/the-alex-hamilton-band/
LOCATION:Dunnington Sports Club\, Common Road\, Dunnington\, YO19 5NG\, United Kingdom
CATEGORIES:Music
ATTACH;FMTTYPE=image/png:https://www.dunningtonsports.club/wp-content/uploads/2025/01/AHB.png
END:VEVENT
BEGIN:VEVENT
DTSTART;TZID=UTC:20250322T200000
DTEND;TZID=UTC:20250322T230000
DTSTAMP:20260423T201359
CREATED:20250201T113219Z
LAST-MODIFIED:20250201T113219Z
UID:855-1742673600-1742684400@www.dunningtonsports.club
SUMMARY:HUGE Party Band
DESCRIPTION:SAVE THE DATE: Huge Party Band are coming to Dunnington! \n\n\n\nGet ready for the ultimate Spring Kick-Off Party on 22nd March!\n\n\n\nThis is going to be a night of high-energy vibes\, live music\, and non-stop dancing—definitely not an event for the quiet \n\n\n\nHere’s what you need to know:\n\n\n Bar opens: 2:30PM\n Doors open: 8 PM\n Band starts: 8:30 PM\n\n\n\nNo chairs (seating in bar area)\, just good times and a whole lot of dancing!\n\n\n\n\nTICKETS ARE NOW LIVE!\n\n\nBook online at: https://fixr.co/event/huge-party-band-tickets-899011195\n\n\nor you can purchase from behind the bar at the club\, just speak to Nick!
URL:https://www.dunningtonsports.club/event/huge-party-band/
LOCATION:Dunnington Sports Club\, Common Road\, Dunnington\, YO19 5NG\, United Kingdom
CATEGORIES:Music
ATTACH;FMTTYPE=image/jpeg:https://www.dunningtonsports.club/wp-content/uploads/2025/02/DUNNINGTON-SPORTS-CLUB-Facebook-Post.jpg
ORGANIZER;CN="Dunnington Sports Club":MAILTO:manager@dunningtonsportsclub.co.uk
END:VEVENT
BEGIN:VEVENT
DTSTART;TZID=UTC:20250315T180000
DTEND;TZID=UTC:20250315T233000
DTSTAMP:20260423T201359
CREATED:20250307T183940Z
LAST-MODIFIED:20250307T183940Z
UID:864-1742061600-1742081400@www.dunningtonsports.club
SUMMARY:St Patricks Day Event
DESCRIPTION: Join Us for an Unforgettable St. Patrick’s Day Event! \n\nYou’re invited to our St. Patrick’s Day celebration at the Dunnington Sports Club on Saturday\, 15th March! \nGet ready for a night brimming with joy\, music\, and Irish cheer.\n\nHere’s what we’ve got lined up:\n Live Music: Enjoy performances from local musicians\, including Steve Cassidy\, Billy Leonard\, Graham Hodge\, Graham Metcalf\, John Lewis\, Heather Gray\, and Ken Sanderson.\n\n Beer & Food: Bar meals will be available from 6-8 PM. Please book in advance by texting or emailing Nick at 07905 677559 or nick@dunningtonsportsclub.co.uk.\n\n Where: Dunnington Sports Club\n\nBest of all\, ENTRY IS FREE!\n\nSo\, gather your friends and family\, and join us for a night to remember. Don your best green attire and let’s celebrate St. Patrick’s Day the right way!  
URL:https://www.dunningtonsports.club/event/st-patricks-day-event/
LOCATION:Dunnington Sports Club\, Common Road\, Dunnington\, YO19 5NG\, United Kingdom
CATEGORIES:Event,Music
ATTACH;FMTTYPE=image/jpeg:https://www.dunningtonsports.club/wp-content/uploads/2025/03/St-PAtricks-Day-Event-Cover.jpg
ORGANIZER;CN="Dunnington Sports Club":MAILTO:manager@dunningtonsportsclub.co.uk
END:VEVENT
BEGIN:VEVENT
DTSTART;TZID=UTC:20250305T120000
DTEND;TZID=UTC:20250305T140000
DTSTAMP:20260423T201359
CREATED:20241116T151044Z
LAST-MODIFIED:20250107T201303Z
UID:159-1741176000-1741183200@www.dunningtonsports.club
SUMMARY:Diamond Club Lunch
DESCRIPTION:Join us for lunch at Dunnington Sports Club on the first Wednesday of every month\n Dunnington Sports Club YO19 5NG manager@dunningtonsportsclub.co.uk 01904 481039
URL:https://www.dunningtonsports.club/event/diamond-club-lunch/
LOCATION:Dunnington Sports Club\, Common Road\, Dunnington\, YO19 5NG\, United Kingdom
CATEGORIES:Event
ATTACH;FMTTYPE=image/jpeg:https://www.dunningtonsports.club/wp-content/uploads/2024/11/Diamond-Club-Lunch-Event-Cover.jpg
ORGANIZER;CN="Dunnington Sports Club":MAILTO:manager@dunningtonsportsclub.co.uk
END:VEVENT
BEGIN:VEVENT
DTSTART;TZID=UTC:20250301T200000
DTEND;TZID=UTC:20250301T220000
DTSTAMP:20260423T201359
CREATED:20250112T114356Z
LAST-MODIFIED:20250225T163052Z
UID:799-1740859200-1740866400@www.dunningtonsports.club
SUMMARY:Comedy Night at the Club
DESCRIPTION:🎉 Get ready for a night full of laughter! 🎉 \nJoin us for an unforgettable Comedy Night featuring some of the best comedians in the business! \n🗓 Date: Saturday\, 1st March\n🕗 Time: 8 PM\n📍 Venue: Dunnington Sports Club \n🎤 Line-up: \nKev Mud: British Comedian of the Year Finalist\nTony Cowards: Rapidfire Gag Merchant\nTom Alban: Mr. Energy \n📜 Tickets: Only £15\n🍔 We will be serving bar meals from 6-8 PM. Please book in advance! \nTickets are available at https://fixr.co/event/comedy-night-tickets-84026743 and directly from the sports club. Don’t miss out on a night of non-stop laughter! \n🔞 18+ Event \n#ComedyNight #LiveComedy #StandUpComedy #Laughter #NightOut #KevMudd #TonyCowards #TomAlban
URL:https://www.dunningtonsports.club/event/comedy-night-at-the-club/
LOCATION:Dunnington Sports Club\, Common Road\, Dunnington\, YO19 5NG\, United Kingdom
CATEGORIES:Comedy,Event
ATTACH;FMTTYPE=image/png:https://www.dunningtonsports.club/wp-content/uploads/2025/01/Untitled-design-12-e1740501032742.png
ORGANIZER;CN="Dunnington Sports Club":MAILTO:manager@dunningtonsportsclub.co.uk
END:VEVENT
BEGIN:VEVENT
DTSTART;TZID=UTC:20250214T170000
DTEND;TZID=UTC:20250214T200000
DTSTAMP:20260423T201359
CREATED:20250107T202309Z
LAST-MODIFIED:20250112T121410Z
UID:797-1739552400-1739563200@www.dunningtonsports.club
SUMMARY:Fridays at the Club
DESCRIPTION:Fridays at Dunnington Sports Club! \nKick off the weekend in style with Fridays at the Club! 🎉 Enjoy: \n🍷 £5 OFF Wine & Prosecco (75cl bottles)\n🥃 Double up on spirits for just £1.50 \n🗓️ Every Friday\n🕔 5:00 PM – 8:00 PM \nIt’s the perfect way to unwind with friends. \nJoin us every Friday!
URL:https://www.dunningtonsports.club/event/fridays-at-the-club-4/
LOCATION:Dunnington Sports Club\, Common Road\, Dunnington\, YO19 5NG\, United Kingdom
CATEGORIES:Event
ATTACH;FMTTYPE=image/png:https://www.dunningtonsports.club/wp-content/uploads/2024/12/Friday-Fun-1920-x-1080-px.png
ORGANIZER;CN="Dunnington Sports Club":MAILTO:manager@dunningtonsportsclub.co.uk
END:VEVENT
BEGIN:VEVENT
DTSTART;TZID=UTC:20250207T170000
DTEND;TZID=UTC:20250207T200000
DTSTAMP:20260423T201359
CREATED:20250107T201858Z
LAST-MODIFIED:20250112T121324Z
UID:793-1738947600-1738958400@www.dunningtonsports.club
SUMMARY:Fridays at the Club
DESCRIPTION:Fridays at Dunnington Sports Club! \nKick off the weekend in style with Fridays at the Club! 🎉 Enjoy: \n🍷 £5 OFF Wine & Prosecco (75cl bottles)\n🥃 Double up on spirits for just £1.50 \n🗓️ Every Friday\n🕔 5:00 PM – 8:00 PM \nIt’s the perfect way to unwind with friends. \nJoin us every Friday!
URL:https://www.dunningtonsports.club/event/fridays-at-the-club-3/
LOCATION:Dunnington Sports Club\, Common Road\, Dunnington\, YO19 5NG\, United Kingdom
CATEGORIES:Event
ATTACH;FMTTYPE=image/png:https://www.dunningtonsports.club/wp-content/uploads/2024/12/Friday-Fun-1920-x-1080-px.png
ORGANIZER;CN="Dunnington Sports Club":MAILTO:manager@dunningtonsportsclub.co.uk
END:VEVENT
BEGIN:VEVENT
DTSTART;TZID=UTC:20250205T120000
DTEND;TZID=UTC:20250205T140000
DTSTAMP:20260423T201359
CREATED:20250107T155019Z
LAST-MODIFIED:20250107T155019Z
UID:784-1738756800-1738764000@www.dunningtonsports.club
SUMMARY:Diamond Club Lunch
DESCRIPTION:Join us for lunch at Dunnington Sports Club on the first Wednesday of every month\n Dunnington Sports Club YO19 5NG manager@dunningtonsportsclub.co.uk 01904 481039
URL:https://www.dunningtonsports.club/event/diamond-club-lunch-2/
LOCATION:Dunnington Sports Club\, Common Road\, Dunnington\, YO19 5NG\, United Kingdom
CATEGORIES:Event
ATTACH;FMTTYPE=image/jpeg:https://www.dunningtonsports.club/wp-content/uploads/2024/11/Diamond-Club-Lunch-Event-Cover.jpg
ORGANIZER;CN="Dunnington Sports Club":MAILTO:manager@dunningtonsportsclub.co.uk
END:VEVENT
BEGIN:VEVENT
DTSTART;TZID=UTC:20250131T170000
DTEND;TZID=UTC:20250131T200000
DTSTAMP:20260423T201359
CREATED:20250107T201539Z
LAST-MODIFIED:20250112T121241Z
UID:791-1738342800-1738353600@www.dunningtonsports.club
SUMMARY:Fridays at the Club
DESCRIPTION:Fridays at Dunnington Sports Club! \nKick off the weekend in style with Fridays at the Club! 🎉 Enjoy: \n🍷 £5 OFF Wine & Prosecco (75cl bottles)\n🥃 Double up on spirits for just £1.50 \n🗓️ Every Friday\n🕔 5:00 PM – 8:00 PM \nIt’s the perfect way to unwind with friends. \nJoin us every Friday!
URL:https://www.dunningtonsports.club/event/fridays-at-the-club-2/
LOCATION:Dunnington Sports Club\, Common Road\, Dunnington\, YO19 5NG\, United Kingdom
CATEGORIES:Event
ATTACH;FMTTYPE=image/png:https://www.dunningtonsports.club/wp-content/uploads/2024/12/Friday-Fun-1920-x-1080-px.png
ORGANIZER;CN="Dunnington Sports Club":MAILTO:manager@dunningtonsportsclub.co.uk
END:VEVENT
BEGIN:VEVENT
DTSTART;TZID=UTC:20250124T170000
DTEND;TZID=UTC:20250124T200000
DTSTAMP:20260423T201359
CREATED:20241122T153511Z
LAST-MODIFIED:20250112T121209Z
UID:333-1737738000-1737748800@www.dunningtonsports.club
SUMMARY:Fridays at the Club
DESCRIPTION:Fridays at Dunnington Sports Club! \nKick off the weekend in style with Fridays at the Club! 🎉 Enjoy: \n🍷 £5 OFF Wine & Prosecco (75cl bottles)\n🥃 Double up on spirits for just £1.50 \n🗓️ Every Friday\n🕔 5:00 PM – 8:00 PM \nIt’s the perfect way to unwind with friends. \nJoin us every Friday!
URL:https://www.dunningtonsports.club/event/fridays-at-the-club/
LOCATION:Dunnington Sports Club\, Common Road\, Dunnington\, YO19 5NG\, United Kingdom
CATEGORIES:Event
ATTACH;FMTTYPE=image/png:https://www.dunningtonsports.club/wp-content/uploads/2024/12/Friday-Fun-1920-x-1080-px.png
ORGANIZER;CN="Dunnington Sports Club":MAILTO:manager@dunningtonsportsclub.co.uk
END:VEVENT
BEGIN:VEVENT
DTSTART;TZID=UTC:20250117T193000
DTEND;TZID=UTC:20250117T213000
DTSTAMP:20260423T201359
CREATED:20250113T171500Z
LAST-MODIFIED:20250113T171839Z
UID:820-1737142200-1737149400@www.dunningtonsports.club
SUMMARY:DCC Line Dancing Night
DESCRIPTION:Due to the success of Dunnington Cricket Club’s last line dancing night\, they have put in monthly opportunities to have fun!\nBook your tickets now!\n7:30pm – 9:30pm\n£10 a ticket\nFor tickets please contact Julie – 07788728899
URL:https://www.dunningtonsports.club/event/dcc-line-dancing-night/
LOCATION:Dunnington Sports Club\, Common Road\, Dunnington\, YO19 5NG\, United Kingdom
CATEGORIES:Event
ATTACH;FMTTYPE=image/jpeg:https://www.dunningtonsports.club/wp-content/uploads/2025/01/line-dancing-e1736788440973.jpg
ORGANIZER;CN="Dunnington Cricket Club":MAILTO:dunningtoncc@gmail.com
END:VEVENT
BEGIN:VEVENT
DTSTART;TZID=UTC:20250117T170000
DTEND;TZID=UTC:20250117T200000
DTSTAMP:20260423T201359
CREATED:20241212T194848Z
LAST-MODIFIED:20250112T121134Z
UID:744-1737133200-1737144000@www.dunningtonsports.club
SUMMARY:Fridays at the Club
DESCRIPTION:Fridays at Dunnington Sports Club! \nKick off the weekend in style with Fridays at the Club! 🎉 Enjoy: \n🍷 £5 OFF Wine & Prosecco (75cl bottles)\n🥃 Double up on spirits for just £1.50 \n🗓️ Every Friday\n🕔 5:00 PM – 8:00 PM \nIt’s the perfect way to unwind with friends. \nJoin us every Friday!
URL:https://www.dunningtonsports.club/event/fridays-at-the-club-17jan/
LOCATION:Dunnington Sports Club\, Common Road\, Dunnington\, YO19 5NG\, United Kingdom
CATEGORIES:Event
ATTACH;FMTTYPE=image/png:https://www.dunningtonsports.club/wp-content/uploads/2024/12/Friday-Fun-1920-x-1080-px.png
ORGANIZER;CN="Dunnington Sports Club":MAILTO:manager@dunningtonsportsclub.co.uk
END:VEVENT
BEGIN:VEVENT
DTSTART;TZID=UTC:20250110T170000
DTEND;TZID=UTC:20250110T200000
DTSTAMP:20260423T201359
CREATED:20241212T195213Z
LAST-MODIFIED:20250107T154820Z
UID:747-1736528400-1736539200@www.dunningtonsports.club
SUMMARY:Fridays at the Club
DESCRIPTION: Fridays at Dunnington Sports Club! \nKick off the weekend in style with Fridays at the Club! \n\nEnjoy:\n £5 OFF Wine & Prosecco (75cl bottles) Double up on spirits for just £1.50 Delicious Philly’s Wood-Fired Pizza served fresh!\n\n 5:00 PM – 8:00 PM\n\nIt’s the perfect way to unwind with friends\, grab some great deals\, and indulge in the best wood-fired pizza around! \n\nJoin us on a Friday! Let’s make it a weekly tradition! 
URL:https://www.dunningtonsports.club/event/fridays-at-the-club-10jan/
LOCATION:Dunnington Sports Club\, Common Road\, Dunnington\, YO19 5NG\, United Kingdom
CATEGORIES:Event
ATTACH;FMTTYPE=image/jpeg:https://www.dunningtonsports.club/wp-content/uploads/2024/12/Friday-Fun-1920-x-1080-px-1.jpg
ORGANIZER;CN="Dunnington Sports Club":MAILTO:manager@dunningtonsportsclub.co.uk
END:VEVENT
BEGIN:VEVENT
DTSTART;TZID=UTC:20241213T200000
DTEND;TZID=UTC:20241213T230000
DTSTAMP:20260423T201359
CREATED:20241116T154115Z
LAST-MODIFIED:20241120T191033Z
UID:171-1734120000-1734130800@www.dunningtonsports.club
SUMMARY:ABBA Tribute Night
DESCRIPTION:An ABBA Tribute Night will be held at Dunnington Sports Club\, YO19 5NG. Tickets are now on sale. Contact nick@dunningtonsportsclub.co.uk or call 01904 481039 for more information.
URL:https://www.dunningtonsports.club/event/abba-tribute-night/
LOCATION:Dunnington Sports Club\, Common Road\, Dunnington\, YO19 5NG\, United Kingdom
CATEGORIES:Music
ATTACH;FMTTYPE=image/jpeg:https://www.dunningtonsports.club/wp-content/uploads/2024/11/ABBA-Tribute-Band-Event-Cover.jpg
ORGANIZER;CN="Dunnington Sports Club":MAILTO:manager@dunningtonsportsclub.co.uk
END:VEVENT
BEGIN:VEVENT
DTSTART;TZID=UTC:20241201T160000
DTEND;TZID=UTC:20241201T190000
DTSTAMP:20260423T201359
CREATED:20241116T151645Z
LAST-MODIFIED:20241116T151645Z
UID:165-1733068800-1733079600@www.dunningtonsports.club
SUMMARY:Tennis Club Christmas Lunch
DESCRIPTION:
URL:https://www.dunningtonsports.club/event/tennis-club-christmas-lunch/
LOCATION:Dunnington Sports Club\, Common Road\, Dunnington\, YO19 5NG\, United Kingdom
CATEGORIES:Event
ATTACH;FMTTYPE=image/jpeg:https://www.dunningtonsports.club/wp-content/uploads/2024/11/Tennis-Club-Christmas-Lunch-Event-Cover.jpg
ORGANIZER;CN="Dunnington Tennis Club":MAILTO:jenks77@hotmail.com
END:VEVENT
BEGIN:VEVENT
DTSTART;TZID=UTC:20241127T200000
DTEND;TZID=UTC:20241127T220000
DTSTAMP:20260423T201359
CREATED:20241116T153036Z
LAST-MODIFIED:20241116T153614Z
UID:168-1732737600-1732744800@www.dunningtonsports.club
SUMMARY:Band Night
DESCRIPTION:Our regular bands play from 8pm onwards \nCome along and enjoy some great music in a relaxed and friendly environment. Everyone is Welcome! \nFor further details\, call the club.
URL:https://www.dunningtonsports.club/event/band-night/
LOCATION:Dunnington Sports Club\, Common Road\, Dunnington\, YO19 5NG\, United Kingdom
CATEGORIES:Music
ATTACH;FMTTYPE=image/jpeg:https://www.dunningtonsports.club/wp-content/uploads/2024/11/Band-Night-Event-Cover.jpg
ORGANIZER;CN="Dunnington Sports Club":MAILTO:manager@dunningtonsportsclub.co.uk
END:VEVENT
END:VCALENDAR