BEGIN:VCALENDAR
VERSION:2.0
PRODID:-//Dunnington Sports Club - ECPv6.15.11//NONSGML v1.0//EN
CALSCALE:GREGORIAN
METHOD:PUBLISH
X-ORIGINAL-URL:https://www.dunningtonsports.club
X-WR-CALDESC:Events for Dunnington Sports Club
REFRESH-INTERVAL;VALUE=DURATION:PT1H
X-Robots-Tag:noindex
X-PUBLISHED-TTL:PT1H
BEGIN:VTIMEZONE
TZID:UTC
BEGIN:STANDARD
TZOFFSETFROM:+0000
TZOFFSETTO:+0000
TZNAME:UTC
DTSTART:20230101T000000
END:STANDARD
END:VTIMEZONE
BEGIN:VEVENT
DTSTART;TZID=UTC:20241213T200000
DTEND;TZID=UTC:20241213T230000
DTSTAMP:20260423T230409
CREATED:20241116T154115Z
LAST-MODIFIED:20241120T191033Z
UID:171-1734120000-1734130800@www.dunningtonsports.club
SUMMARY:ABBA Tribute Night
DESCRIPTION:An ABBA Tribute Night will be held at Dunnington Sports Club\, YO19 5NG. Tickets are now on sale. Contact nick@dunningtonsportsclub.co.uk or call 01904 481039 for more information.
URL:https://www.dunningtonsports.club/event/abba-tribute-night/
LOCATION:Dunnington Sports Club\, Common Road\, Dunnington\, YO19 5NG\, United Kingdom
CATEGORIES:Music
ATTACH;FMTTYPE=image/jpeg:https://www.dunningtonsports.club/wp-content/uploads/2024/11/ABBA-Tribute-Band-Event-Cover.jpg
ORGANIZER;CN="Dunnington Sports Club":MAILTO:manager@dunningtonsportsclub.co.uk
END:VEVENT
BEGIN:VEVENT
DTSTART;TZID=UTC:20241127T200000
DTEND;TZID=UTC:20241127T220000
DTSTAMP:20260423T230409
CREATED:20241116T153036Z
LAST-MODIFIED:20241116T153614Z
UID:168-1732737600-1732744800@www.dunningtonsports.club
SUMMARY:Band Night
DESCRIPTION:Our regular bands play from 8pm onwards \nCome along and enjoy some great music in a relaxed and friendly environment. Everyone is Welcome! \nFor further details\, call the club.
URL:https://www.dunningtonsports.club/event/band-night/
LOCATION:Dunnington Sports Club\, Common Road\, Dunnington\, YO19 5NG\, United Kingdom
CATEGORIES:Music
ATTACH;FMTTYPE=image/jpeg:https://www.dunningtonsports.club/wp-content/uploads/2024/11/Band-Night-Event-Cover.jpg
ORGANIZER;CN="Dunnington Sports Club":MAILTO:manager@dunningtonsportsclub.co.uk
END:VEVENT
END:VCALENDAR