BEGIN:VCALENDAR
VERSION:2.0
PRODID:-//Dunnington Sports Club - ECPv6.15.11//NONSGML v1.0//EN
CALSCALE:GREGORIAN
METHOD:PUBLISH
X-WR-CALNAME:Dunnington Sports Club
X-ORIGINAL-URL:https://www.dunningtonsports.club
X-WR-CALDESC:Events for Dunnington Sports Club
REFRESH-INTERVAL;VALUE=DURATION:PT1H
X-Robots-Tag:noindex
X-PUBLISHED-TTL:PT1H
BEGIN:VTIMEZONE
TZID:UTC
BEGIN:STANDARD
TZOFFSETFROM:+0000
TZOFFSETTO:+0000
TZNAME:UTC
DTSTART:20250101T000000
END:STANDARD
END:VTIMEZONE
BEGIN:VTIMEZONE
TZID:Europe/London
BEGIN:DAYLIGHT
TZOFFSETFROM:+0000
TZOFFSETTO:+0100
TZNAME:BST
DTSTART:20250330T010000
END:DAYLIGHT
BEGIN:STANDARD
TZOFFSETFROM:+0100
TZOFFSETTO:+0000
TZNAME:GMT
DTSTART:20251026T010000
END:STANDARD
BEGIN:DAYLIGHT
TZOFFSETFROM:+0000
TZOFFSETTO:+0100
TZNAME:BST
DTSTART:20260329T010000
END:DAYLIGHT
BEGIN:STANDARD
TZOFFSETFROM:+0100
TZOFFSETTO:+0000
TZNAME:GMT
DTSTART:20261025T010000
END:STANDARD
BEGIN:DAYLIGHT
TZOFFSETFROM:+0000
TZOFFSETTO:+0100
TZNAME:BST
DTSTART:20270328T010000
END:DAYLIGHT
BEGIN:STANDARD
TZOFFSETFROM:+0100
TZOFFSETTO:+0000
TZNAME:GMT
DTSTART:20271031T010000
END:STANDARD
END:VTIMEZONE
BEGIN:VEVENT
DTSTART;TZID=UTC:20260423T200000
DTEND;TZID=UTC:20260423T220000
DTSTAMP:20260423T154047
CREATED:20260214T180741Z
LAST-MODIFIED:20260214T180741Z
UID:1035-1776974400-1776981600@www.dunningtonsports.club
SUMMARY:DCC Fashion Show
DESCRIPTION:Get some new clothes for summer! Watch a great show and then go shopping. \nTickets available soon\, book the date in your calendar now!
URL:https://www.dunningtonsports.club/event/dcc-fashion-show/
LOCATION:Dunnington Sports Club\, Common Road\, Dunnington\, YO19 5NG\, United Kingdom
CATEGORIES:Event
ATTACH;FMTTYPE=image/jpeg:https://www.dunningtonsports.club/wp-content/uploads/2026/02/Fashion-Show.jpg
ORGANIZER;CN="Dunnington Cricket Club":MAILTO:dunningtoncc@gmail.com
END:VEVENT
BEGIN:VEVENT
DTSTART;TZID=Europe/London:20260503T120000
DTEND;TZID=Europe/London:20260503T160000
DTSTAMP:20260423T154047
CREATED:20260407T132709Z
LAST-MODIFIED:20260407T132709Z
UID:1045-1777809600-1777824000@www.dunningtonsports.club
SUMMARY:Dunnington Bowls Club Open Days
DESCRIPTION:Come down and try for yourself\, always a fun afternoon!
URL:https://www.dunningtonsports.club/event/dunnington-bowls-club-open-days/
LOCATION:Dunnington Sports Club\, Common Road\, Dunnington\, YO19 5NG\, United Kingdom
CATEGORIES:Event
ATTACH;FMTTYPE=image/jpeg:https://www.dunningtonsports.club/wp-content/uploads/2026/04/WhatsApp-Image-2026-04-04-at-13.36.09.jpeg
END:VEVENT
BEGIN:VEVENT
DTSTART;TZID=Europe/London:20260531T120000
DTEND;TZID=Europe/London:20260531T160000
DTSTAMP:20260423T154047
CREATED:20260407T132903Z
LAST-MODIFIED:20260407T132903Z
UID:1049-1780228800-1780243200@www.dunningtonsports.club
SUMMARY:Dunnington Bowls Club Open Day
DESCRIPTION:Come down and try for yourself\, always a fun afternoon!
URL:https://www.dunningtonsports.club/event/dunnington-bowls-club-open-day/
LOCATION:Dunnington Sports Club\, Common Road\, Dunnington\, YO19 5NG\, United Kingdom
CATEGORIES:Event
ATTACH;FMTTYPE=image/jpeg:https://www.dunningtonsports.club/wp-content/uploads/2026/04/WhatsApp-Image-2026-04-04-at-13.36.09.jpeg
END:VEVENT
BEGIN:VEVENT
DTSTART;TZID=UTC:20260718T193000
DTEND;TZID=UTC:20260718T230000
DTSTAMP:20260423T154047
CREATED:20250307T184323Z
LAST-MODIFIED:20260214T181045Z
UID:869-1784403000-1784415600@www.dunningtonsports.club
SUMMARY:The Snake Davis Band
DESCRIPTION:The hugely popular Snake David Band are returning to the Sports Club this July.\n\nSnake Davis has worked with some of the world’s biggest acts\, including Take That\, Calvin Harris\, Tom Jones\, Eurythmics\, George Michael\, Ray Charles\, Lisa Stansfield and M People.\n\nPerformance starts at 7:30pmDoors open at 7:00pmBar opens at 2:30pm\n\nBar meals available from 6-8pm on request – please book in advance.\n\nTickets available soon!
URL:https://www.dunningtonsports.club/event/the-snake-davis-band/
LOCATION:Dunnington Sports Club\, Common Road\, Dunnington\, YO19 5NG\, United Kingdom
CATEGORIES:Event,Music
ATTACH;FMTTYPE=image/jpeg:https://www.dunningtonsports.club/wp-content/uploads/2025/03/Snake-David-Band-Event-Cover.jpg
END:VEVENT
END:VCALENDAR