BEGIN:VCALENDAR
VERSION:2.0
PRODID:-//Dunnington Sports Club - ECPv6.15.11//NONSGML v1.0//EN
CALSCALE:GREGORIAN
METHOD:PUBLISH
X-ORIGINAL-URL:https://www.dunningtonsports.club
X-WR-CALDESC:Events for Dunnington Sports Club
REFRESH-INTERVAL;VALUE=DURATION:PT1H
X-Robots-Tag:noindex
X-PUBLISHED-TTL:PT1H
BEGIN:VTIMEZONE
TZID:UTC
BEGIN:STANDARD
TZOFFSETFROM:+0000
TZOFFSETTO:+0000
TZNAME:UTC
DTSTART:20250101T000000
END:STANDARD
END:VTIMEZONE
BEGIN:VEVENT
DTSTART;TZID=UTC:20260306T193000
DTEND;TZID=UTC:20260306T233000
DTSTAMP:20260423T211738
CREATED:20260214T175310Z
LAST-MODIFIED:20260214T175310Z
UID:1027-1772825400-1772839800@www.dunningtonsports.club
SUMMARY:"P!nk-!sh" - International Tribute To Pink! returns to York
DESCRIPTION:Friday 6th March- Dunnington York\n7:30pm – 11:30pm (Performance starts 8:30pm)\n“We are all pink on the inside” ~ P!nk\n\nP!nk-!sh celebrates multi Grammy Award-winning artist\, P!nk\, like no other.\nAn interactive spectacle\, showcasing iconic costumes\, unerring tour choreography\, delivered with stunning vocal accuracy.\n“The closest thing to P!nk I’ve ever experienced”.\n\nA vibrant\, energetic powerhouse tribute\, Calli Malpas has been stunning international audiences with this standout production\, honouring one of the most seminal female artists of our generation.
URL:https://www.dunningtonsports.club/event/pnk-sh-international-tribute-to-pink-returns-to-york/
LOCATION:Dunnington Sports Club\, Common Road\, Dunnington\, YO19 5NG\, United Kingdom
CATEGORIES:Music
ATTACH;FMTTYPE=image/jpeg:https://www.dunningtonsports.club/wp-content/uploads/2026/02/Pink-ish.jpg
ORGANIZER;CN="UltimateGig.co.uk":MAILTO:ultimategiguk@gmail.com
END:VEVENT
END:VCALENDAR