BEGIN:VCALENDAR
VERSION:2.0
PRODID:-//Dunnington Sports Club - ECPv6.15.11//NONSGML v1.0//EN
CALSCALE:GREGORIAN
METHOD:PUBLISH
X-ORIGINAL-URL:https://www.dunningtonsports.club
X-WR-CALDESC:Events for Dunnington Sports Club
REFRESH-INTERVAL;VALUE=DURATION:PT1H
X-Robots-Tag:noindex
X-PUBLISHED-TTL:PT1H
BEGIN:VTIMEZONE
TZID:UTC
BEGIN:STANDARD
TZOFFSETFROM:+0000
TZOFFSETTO:+0000
TZNAME:UTC
DTSTART:20240101T000000
END:STANDARD
END:VTIMEZONE
BEGIN:VEVENT
DTSTART;TZID=UTC:20251226T103000
DTEND;TZID=UTC:20251226T170000
DTSTAMP:20260425T165335
CREATED:20241204T173728Z
LAST-MODIFIED:20250914T125454Z
UID:680-1766745000-1766768400@www.dunningtonsports.club
SUMMARY:Boxing Day Walk
DESCRIPTION:DUNNINGTON PLAYING FIELDS AND SPORTS CLUB\nBOXING DAY WALK 2025\n\n10.30 from the club – walk off that Christmas Lunch and support a worthwhile charity\n\n\n\n\nIMPORTANT!\n\n\nNote that this year the route of the walk has changed slightly to return via Hagg Lane.\n\n\nAs always\, everyone is welcome at the sports club\, whether you have walked or not; it’s always a great afternoon!\n\n\n\n\nIn aid of DUNNINGTON CANCER SUPPORT GROUP\n\nHALFWAY HOUSE REFRESHMENTSWith thanks to Sandy Frankland and the Cancer Support volunteers.\n\nAFTER THE WALK RETURN TO THE SPORTS CLUB FOR SNACKS AND RAFFLE.\nYOU ARE WELCOME WHETHER YOU WALK OR NOT.\n\nTHANK YOU FOR YOUR SUPPORT. THE WALK HAS NOW BEEN GOING FOR ALMOST 50 YEARS.
URL:https://www.dunningtonsports.club/event/boxing-day-walk/
LOCATION:Dunnington Sports Club\, Common Road\, Dunnington\, YO19 5NG\, United Kingdom
CATEGORIES:Event
ATTACH;FMTTYPE=image/jpeg:https://www.dunningtonsports.club/wp-content/uploads/2024/12/Boxing-Day-Walk-Flyer-A4-e1757854427377.jpg
ORGANIZER;CN="Dunnington Sports Club":MAILTO:manager@dunningtonsportsclub.co.uk
END:VEVENT
END:VCALENDAR